BEGIN:VCALENDAR
VERSION:2.0
PRODID:-//365giornialfemminile - ECPv6.7.1//NONSGML v1.0//EN
CALSCALE:GREGORIAN
METHOD:PUBLISH
X-WR-CALNAME:365giornialfemminile
X-ORIGINAL-URL:https://www.365giornialfemminile.org
X-WR-CALDESC:Eventi per 365giornialfemminile
REFRESH-INTERVAL;VALUE=DURATION:PT1H
X-Robots-Tag:noindex
X-PUBLISHED-TTL:PT1H
BEGIN:VTIMEZONE
TZID:Europe/Rome
BEGIN:DAYLIGHT
TZOFFSETFROM:+0100
TZOFFSETTO:+0200
TZNAME:CEST
DTSTART:20180325T010000
END:DAYLIGHT
BEGIN:STANDARD
TZOFFSETFROM:+0200
TZOFFSETTO:+0100
TZNAME:CET
DTSTART:20181028T010000
END:STANDARD
END:VTIMEZONE
BEGIN:VEVENT
DTSTART;VALUE=DATE:20180903
DTEND;VALUE=DATE:20180915
DTSTAMP:20260419T151520
CREATED:20180807T090002Z
LAST-MODIFIED:20241227T093710Z
UID:10000038-1535932800-1536969599@www.365giornialfemminile.org
SUMMARY:GIOCHIAMO ANCORA UN PO’
DESCRIPTION:Laboratori per bambini della scuola primaria\nDal 3 al 14 Settembre 2018\ndal lunedi al venerdi 8.30-12.30 \npresso la Fattoria didattica “il Salice e il Cipresso”\nvia Remigliari 12 – Torricchio – Pescia \nIscrizioni entro il 20 Luglio 2018\npartecipazione gratuita per un massimo di 20 bambini\nInfo: 339 4954554 Elia \nGIOCHI DI GRUPPO\nATTIVITA’ LUDICHE\nSPAZIO COMPITI
URL:https://www.365giornialfemminile.org/evento/giochiamo-ancora-un-po/
LOCATION:Il Salice ed il Cipresso\, via Remigliari 12\, Torricchio - Pescia\, Italy
ATTACH;FMTTYPE=image/jpeg:https://www.365giornialfemminile.org/wp-content/uploads/2018/11/Fattoria-Didattica-A4.jpg
END:VEVENT
END:VCALENDAR