BEGIN:VCALENDAR
VERSION:2.0
PRODID:-//365giornialfemminile - ECPv6.7.1//NONSGML v1.0//EN
CALSCALE:GREGORIAN
METHOD:PUBLISH
X-WR-CALNAME:365giornialfemminile
X-ORIGINAL-URL:https://www.365giornialfemminile.org
X-WR-CALDESC:Eventi per 365giornialfemminile
REFRESH-INTERVAL;VALUE=DURATION:PT1H
X-Robots-Tag:noindex
X-PUBLISHED-TTL:PT1H
BEGIN:VTIMEZONE
TZID:Europe/Rome
BEGIN:DAYLIGHT
TZOFFSETFROM:+0100
TZOFFSETTO:+0200
TZNAME:CEST
DTSTART:20120325T010000
END:DAYLIGHT
BEGIN:STANDARD
TZOFFSETFROM:+0200
TZOFFSETTO:+0100
TZNAME:CET
DTSTART:20121028T010000
END:STANDARD
BEGIN:DAYLIGHT
TZOFFSETFROM:+0100
TZOFFSETTO:+0200
TZNAME:CEST
DTSTART:20130331T010000
END:DAYLIGHT
BEGIN:STANDARD
TZOFFSETFROM:+0200
TZOFFSETTO:+0100
TZNAME:CET
DTSTART:20131027T010000
END:STANDARD
END:VTIMEZONE
BEGIN:VEVENT
DTSTART;TZID=Europe/Rome:20130609T173000
DTEND;TZID=Europe/Rome:20130609T230000
DTSTAMP:20260421T181844
CREATED:20130609T070038Z
LAST-MODIFIED:20241227T093710Z
UID:10000013-1370799000-1370818800@www.365giornialfemminile.org
SUMMARY:I-DEA Donna
DESCRIPTION:Il Dono del Femminile \nSeminario teorico-pratico in chiave archetipica e spirituale con danze mediative e momenti gioiosi  di condivisione\nConduce: Dott.ssa Loretta Martello\nCentro Kore – Vicenza \n“L’Essere Femminile ”\n“Il Potere della M – le fasi che esprimono il Dono”\n” Il ruolo della Donna quale espressione dell’Anima ”\nSpazio Festa – Via Empolese\, Pieve a Nievole – Pistoia\ndalle ore 10\,00 alle ore 17\,30 del 9 Giugno 2013 \nQuota partecipativa € 15 – pranzo incluso;\nSi richiede cortese prc-iscrizione entro il 5 Giugno;\nPer Info ed iscrizioni:\n– e-mail:    i.deadonna@libero.it  – movi.deadonna@gmail.com\n– Paola: 328 4666727\n– Facebook: I-Dea Donna\n– Associazione “365GiornialFemminile” Onlus – Via Marconi\, 51 – Montecatini Terme: 0572 910311
URL:https://www.365giornialfemminile.org/evento/i-dea-donna/
LOCATION:Spazio Festa\, Via cantarelle\, 5\, Pieve a Nievole\, Italy
ATTACH;FMTTYPE=image/jpeg:https://www.365giornialfemminile.org/wp-content/uploads/2017/12/IdeaDonna.jpg
END:VEVENT
BEGIN:VEVENT
DTSTART;VALUE=DATE:20130520
DTEND;VALUE=DATE:20130521
DTSTAMP:20260421T181844
CREATED:20130520T103716Z
LAST-MODIFIED:20241227T093724Z
UID:10000012-1369008000-1369094399@www.365giornialfemminile.org
SUMMARY:POLLICI ROSA
DESCRIPTION:C’è chi possiede il pollice verde e chi sostiene di avere quello nero\, che non è un dito schiacciato dentro lo sportello di una macchina\, bensì la negazione totale all’arte del giardinaggio. Io non credo che ci sia qualcuno negato dalla nascita: il rapporto con le piante e la natura può non scaturire spontaneo\, ma si apprende facilmente con un po’ di applicazione e molto amore. \nNon ci sono predisposizioni così malevole che ti fanno incenerire una pianta con lo sguardo: eppure veniamo da una cultura così ricca di pregiudizi da farci credere per molto tempo che una donna\, durante il periodo mestruale\, non doveva neanche avvicinarsi a qualcosa di verde perché ne avrebbe pregiudicato la crescita per sempre. \nAdesso\, nello sterminato panorama di vivaisti e giardinieri\, ho scoperto con gioia che esiste anche un’associazione di donne produttrici di piante di qualità: la loro ditta si chiama Pollici Rosa\, coltivano personalmente (immagino anche in “quei giorni”) un’interessante gamma di piante da giardino in un ottimo rapporto qualità prezzo. \nE se acquistate\, anche on line (www.pollicirosa.com)\, nel settore Piante delle donne\, grazie alla campagna Adotta una zolla fiorita\, potrete aiutare il Centro Antiviolenza Liberetutte che sostiene le donne vittime di violenza intra-familiare. \nI Pollici Rosa si trovano nel triangolo d’oro del vivaismo italiano\, nel Pistoiese. Un nome tra tutti: Rose Barni\, il cui catalogo ha fatto sognare più di un collezionista. \nI Barni sono nati come vivaisti nel 1882\, con la vendita di ortaggi\, viti e piante ornamentali. Importavano anche esemplari da tutta Europa per abbellire i giardini toscani. \nA partire dal 1935\, le sanzioni contro l’Italia proibirono il commercio di piante provenienti da Belgio e Francia\, tradizionali Paesi produttori di rose.\nCosì\, Pietro Barni e suo figlio Vittorio si dedicarono alla coltivazione autoctona di questo fiore con un successo tale da trasformarsi in poco tempo nei più importanti creatori italiani di rose. Questo è uno dei pochi casi in cui non si può dar torto a chi afferma che il fascismo ha fatto qualcosa di buono\, del tutto involontariamente\, ma è successo. \nOggi\, Beatrice\, nipote di questa nobile stirpe di ibridatori\, continua l’arte di creare nuove rose.\nUna professionalità affascinante e misteriosa che avvicina lo sperimentatore a una divinità iper-creativa capace\, per magia\, di far nascere ogni anno nuove combinazioni di fiori. \nVoci di corridoio\, o meglio di vivaio\, mi assicurano che le nuove nate del 2013 sono straordinarie.\nFra tutte spiccherà un ibrido dedicato a Mariangela Melato\, omaggio perfetto e dovuto a questa gran donna che ha lasciato un vuoto nel cuore di tutti noi. In attesa di questa novità\, possiamo piantare qualche Rita Levi Montalcini\, o una candida Monna Lisa.
URL:https://www.365giornialfemminile.org/evento/pollici-rosa/
ATTACH;FMTTYPE=image/jpeg:https://www.365giornialfemminile.org/wp-content/uploads/2017/12/rosa-barni-Antico-Amore.jpg
END:VEVENT
BEGIN:VEVENT
DTSTART;TZID=Europe/Rome:20121123T170000
DTEND;TZID=Europe/Rome:20121123T200000
DTSTAMP:20260421T181844
CREATED:20121123T112844Z
LAST-MODIFIED:20241227T093724Z
UID:10000011-1353690000-1353700800@www.365giornialfemminile.org
SUMMARY:Donne mai più sole - evento di sensibilizzazione sul tema della violenza di genere
DESCRIPTION:L’Assessorato alle Politiche Sociali del Comune di Larciano e l’Associazione 365giornialfemminile presentano \nDONNE MAI PIÙ SOLE \nevento di sensibilizzazione sul tema della violenza di genere \nInterventi: \n17.00 – Saluto dell’Amministrazione Comunale \n17.10 – Associazione 365giorniaialfemminile: un sostegno concreto alle vittime di violenza \n17.30 – L’esperienza dell’lspett. Capo Severina Romano della Polizia di Stato – Questura di Pistoia – mostra quali strumenti di intervento possono essere attivati a difesa delle vittime \nVideo: \n17.45 – “L’Amore di Barbablù” realizzato dagli studenti dell’Istituto Comprensivo Statale F. Ferrucci di Larciano \nSpettacolo teatrale: \n18.00 – Monologo tragicomico “UNA DONNA SOLA” di Franca Rame (ovvero “mio marito non mi fa mancar niente!’)\, con Caterina Boschi\, regia Marco Lombardi – Compagnia Giardini dell’Arte – …per far ridere e poi riflettere! \nConclusioni: \n19.00 – Saluti finali dell’Amministrazione e degli Onorevoli Caterina Bini e Edoardo Fanucci \nAl termine tutti In Piazza Vittorio Veneto per il FLASH MOB!!!
URL:https://www.365giornialfemminile.org/evento/donne-mai-piu-sole-evento-di-sensibilizzazione-sul-tema-della-violenza-di-genere/
LOCATION:Sala “IL PROGRESSO”\, Via Marconi\, 14\, Larciano\, Italy
ATTACH;FMTTYPE=image/jpeg:https://www.365giornialfemminile.org/wp-content/uploads/2017/12/2013-11-24_Larciano_Femminicidio.jpg
END:VEVENT
END:VCALENDAR